View In:
ArcGIS JavaScript
ArcGIS Online Map Viewer
ArcGIS Earth
ArcMap
View Footprint In:
ArcGIS Online Map Viewer
Service Description: Hillshade
Name: Hillshade
Description:
Single Fused Map Cache: false
Extent:
XMin: -1.3737363550451335E7
YMin: 5832397.944670256
XMax: -1.3508479628683489E7
YMax: 5919019.229912826
Spatial Reference: 102100
(3857)
Initial Extent:
XMin: -1.3737363550451335E7
YMin: 5832397.944670256
XMax: -1.3508479628683489E7
YMax: 5919019.229912826
Spatial Reference: 102100
(3857)
Full Extent:
XMin: -1.3737363550451335E7
YMin: 5832397.944670256
XMax: -1.3508479628683489E7
YMax: 5919019.229912826
Spatial Reference: 102100
(3857)
Pixel Size X: 1.828803657607333
Pixel Size Y: 1.8288036576072972
Band Count: 1
Pixel Type: U8
RasterFunction Infos: {"rasterFunctionInfos": [{
"name": "None",
"description": "",
"help": ""
}]}
Mensuration Capabilities: Basic
Has Histograms: true
Has Colormap: false
Has Multi Dimensions : false
Rendering Rule:
Min Scale: 0
Max Scale: 0
Copyright Text: © Lewis County GIS
Service Data Type: esriImageServiceDataTypeGeneric
Min Values: 0
Max Values: 254
Mean Values: 169.15149305402
Standard Deviation Values: 46.402139248459
Object ID Field:
Fields:
None
Default Mosaic Method: Center
Allowed Mosaic Methods:
SortField:
SortValue: null
Mosaic Operator: First
Default Compression Quality: 75
Default Resampling Method: Bilinear
Max Record Count: null
Max Image Height: 15000
Max Image Width: 15000
Max Download Image Count: null
Max Mosaic Image Count: null
Allow Raster Function: true
Allow Copy: null
Allow Analysis: null
Allow Compute TiePoints: false
Supports Statistics: false
Supports Advanced Queries: false
Use StandardizedQueries: true
Raster Type Infos:
Name: Raster Dataset
Description: Supports all ArcGIS Raster Datasets
Help:
Has Raster Attribute Table: false
Edit Fields Info: null
Ownership Based AccessControl For Rasters: null
Child Resources:
Info
Histograms
Key Properties
Legend
Raster Function Infos
Supported Operations:
Export Image
Identify
Measure
Compute Histograms
Compute Statistics Histograms
Get Samples
Compute Class Statistics
Query Boundary
Compute Pixel Location
Compute Angles
Validate
Project